BEGIN:VCALENDAR
VERSION:2.0
PRODID:-//Lunch Break - ECPv6.15.20//NONSGML v1.0//EN
CALSCALE:GREGORIAN
METHOD:PUBLISH
X-ORIGINAL-URL:https://lunchbreak.org
X-WR-CALDESC:Events for Lunch Break
REFRESH-INTERVAL;VALUE=DURATION:PT1H
X-Robots-Tag:noindex
X-PUBLISHED-TTL:PT1H
BEGIN:VTIMEZONE
TZID:UTC
BEGIN:STANDARD
TZOFFSETFROM:+0000
TZOFFSETTO:+0000
TZNAME:UTC
DTSTART:20250101T000000
END:STANDARD
END:VTIMEZONE
BEGIN:VEVENT
DTSTART;TZID=UTC:20260331T130000
DTEND;TZID=UTC:20260331T140000
DTSTAMP:20260421T113939
CREATED:20250331T181611Z
LAST-MODIFIED:20260108T160821Z
UID:10000631-1774962000-1774965600@lunchbreak.org
SUMMARY:All Recovery Meeting
DESCRIPTION:All Recovery Meeting \n📆 Tuesdays  \n⏰ 1 – 2 PM \n📍 Lunch Break 121 Drs. James Parker Blvd.\, Red Bank\, NJ | Ring door #9 \nOpen to anyone in Recovery + their loved ones regardless of their pathway to Recovery. \nCome experience recovery support in a safe\, non-judgmental environment that honors all pathways to Recovery. \nAll Recovery Meetings emphasize the hope and healing of recovery\, and how it has changed our lives\, as we each walk our path to Recovery. \nFor more information\, contact Shani Love: slove@lunchbreak.org | (732) 513-6960
URL:https://lunchbreak.org/event/all-recovery-meeting-2/2026-03-31/
LOCATION:Lunch Break\, 121 Drs. James Parker Boulevard\, Red Bank\, NJ\, 07701\, United States
ATTACH;FMTTYPE=image/png:https://lunchbreak.org/wp-content/uploads/2025/03/ALL-Recovery.png
ORGANIZER;CN="Shani Love":MAILTO:slove@lunchbreak.org
END:VEVENT
BEGIN:VEVENT
DTSTART;TZID=UTC:20260331T130000
DTEND;TZID=UTC:20260331T140000
DTSTAMP:20260421T113939
CREATED:20260305T194133Z
LAST-MODIFIED:20260305T204946Z
UID:10004432-1774962000-1774965600@lunchbreak.org
SUMMARY:Whole Life Wellness Project
DESCRIPTION:The Whole Life Wellness Project is a holistic program that explores the eight dimensions of wellness\, helping participants build healthier\, more balanced lives through practical skills\, self-reflection and supportive community. \n📆 Tues.\, March 31 \n⏰ 1 – 2 PM \n📍 Lunch Break Health & Wellness Room (Second Floor\, Ring Door #9)\n121 Drs James Parker Blvd.\, Red Bank\, NJ \nPLEASE EMAIL OR TEXT SHANI WITH THE NAME OF THE CLASS TO REGISTER SLOVE@LUNCHBREAK.ORG OR 732-513-6960
URL:https://lunchbreak.org/event/whole-life-wellness-project-4/
LOCATION:Lunch Break Health & Wellness Room\, 121 Drs James Parker Blvd\, Second Floor\, Red Bank\, NJ\, 07701\, United States
CATEGORIES:Health & Wellness
ATTACH;FMTTYPE=image/png:https://lunchbreak.org/wp-content/uploads/2026/03/Facebook-Cover-copy-3.png
ORGANIZER;CN="Shani Love":MAILTO:slove@lunchbreak.org
END:VEVENT
BEGIN:VEVENT
DTSTART;TZID=UTC:20260331T153000
DTEND;TZID=UTC:20260331T173000
DTSTAMP:20260421T113939
CREATED:20260224T193319Z
LAST-MODIFIED:20260224T193319Z
UID:10004401-1774971000-1774978200@lunchbreak.org
SUMMARY:Easter Basket Giveaway
DESCRIPTION:The Easter Bunny is hopping into Lunch Break on March 31 from 3:30 – 5:30 PM in the Community Dining Room. \n\nKIDS MUST BE PRESENT TO RECEIVE A BASKET\nBASKETS FOR CHILDREN UP TO 13\n\n*AVAILABLE WHILE SUPPLIES LAST
URL:https://lunchbreak.org/event/easter-basket-giveaway/
LOCATION:Lunch Break Community Dining Room\, 121 Drs. James Parker Boulevard\, Red Bank\, NJ\, 07701\, United States
CATEGORIES:Community Event
ATTACH;FMTTYPE=image/jpeg:https://lunchbreak.org/wp-content/uploads/2026/02/unnamed-2-scaled.jpg
ORGANIZER;CN="Shani Love":MAILTO:slove@lunchbreak.org
END:VEVENT
END:VCALENDAR