BEGIN:VCALENDAR
VERSION:2.0
PRODID:-//Lunch Break - ECPv6.15.20//NONSGML v1.0//EN
CALSCALE:GREGORIAN
METHOD:PUBLISH
X-WR-CALNAME:Lunch Break
X-ORIGINAL-URL:https://lunchbreak.org
X-WR-CALDESC:Events for Lunch Break
REFRESH-INTERVAL;VALUE=DURATION:PT1H
X-Robots-Tag:noindex
X-PUBLISHED-TTL:PT1H
BEGIN:VTIMEZONE
TZID:UTC
BEGIN:STANDARD
TZOFFSETFROM:+0000
TZOFFSETTO:+0000
TZNAME:UTC
DTSTART:20250101T000000
END:STANDARD
END:VTIMEZONE
BEGIN:VEVENT
DTSTART;TZID=UTC:20260416T100000
DTEND;TZID=UTC:20260416T140000
DTSTAMP:20260422T122022
CREATED:20260326T165725Z
LAST-MODIFIED:20260326T165810Z
UID:10004463-1776333600-1776348000@lunchbreak.org
SUMMARY:April Pet Pantry Drive
DESCRIPTION:In 2025\, an estimated 30 million U.S. pets live in food-insecure households\, with 1 in 7 owners experiencing “pet poverty”. Over 50% of owners would skip their own meals to feed their dogs\, and 20% of senior pet owners sacrifice their own food\, highlighting deep financial strain to keep pets fed. Help us provide for our Fur Friends! \nOUR NEEDS:\n🦴 Pet Food\n😽 Kitty Litter\n🦮 Collars/Leashes\n🪀 Pet Toys \nAmazon Wish List ➡️ https://bit.ly/3N71yth \n⏰ DROP OFF TIMES:\nMonday – Friday 10 AM – 2 PM\nSaturday 10 – 11:45 AM \n📍DROP OFF LOCATION:\n121 Drs. James Parker Blvd.\, Red Bank\, NJ\n*Please come to our Donations Door located at the rear of the building.
URL:https://lunchbreak.org/event/april-pet-pantry-drive/2026-04-16/
LOCATION:Lunch Break\, 121 Drs. James Parker Boulevard\, Red Bank\, NJ\, 07701\, United States
CATEGORIES:Donation
ATTACH;FMTTYPE=image/png:https://lunchbreak.org/wp-content/uploads/2026/03/MONTHLY-DRIVE.png
ORGANIZER;CN="Beth Sherrard":MAILTO:bsherrard@lunchbreak.org
END:VEVENT
BEGIN:VEVENT
DTSTART;TZID=UTC:20260416T180000
DTEND;TZID=UTC:20260416T190000
DTSTAMP:20260422T122022
CREATED:20260326T184808Z
LAST-MODIFIED:20260326T190311Z
UID:10004789-1776362400-1776366000@lunchbreak.org
SUMMARY:Project Citizen Gardener Interest Meeting
DESCRIPTION:We are looking for gardeners to donate fresh vegetables to Lunch Break Your Choice Pantry. \nWhether you are involved in a community garden or have a small backyard space for growing\, you can help make a difference to many families in Monmouth County and beyond. \nContact featherstonebonz@gmail.com for more info! \n📆 Wednesday\, April 16  \n⏰ 6:00 – 7:00 PM \n📍 Lunch Break Dining Room – 121 Drs James Parker\, Blvd.\, Red Bank\, NJ 07701 – (Door will be open) \nFor the 2026 growing season\, Lunch Break is especially seeking donations of: Fresh Produce Including: \n\nLettuces: Romaine\, Iceberg\, Butterhead Spinach Bok Choy Collard Greens Radicchio\, Carrots\, Beets\, Broccoli\, Green Beans\nParsley\, Curly & Italian Flat Basil\, Italian Radishes\, Watermelon Peppers\, Bell & Poblano Tomatoes\nSlicers\, Beefsteak\, Heirloom varieties and Cherries Summer Squash\, Yellow and Green Eggplant\, Black Beauty Watermelon\, Honeydew\, Cantaloupe
URL:https://lunchbreak.org/event/project-citizen-gardener-interest-meeting/
LOCATION:Lunch Break Community Dining Room\, 121 Drs. James Parker Boulevard\, Red Bank\, NJ\, 07701\, United States
CATEGORIES:Project Citizen Gardener,Volunteer
ATTACH;FMTTYPE=image/png:https://lunchbreak.org/wp-content/uploads/2026/03/Facebook-Cover-2.png
ORGANIZER;CN="Beth Sherrard":MAILTO:bsherrard@lunchbreak.org
END:VEVENT
END:VCALENDAR