BEGIN:VCALENDAR
VERSION:2.0
PRODID:-//Lunch Break - ECPv6.15.20//NONSGML v1.0//EN
CALSCALE:GREGORIAN
METHOD:PUBLISH
X-WR-CALNAME:Lunch Break
X-ORIGINAL-URL:https://lunchbreak.org
X-WR-CALDESC:Events for Lunch Break
REFRESH-INTERVAL;VALUE=DURATION:PT1H
X-Robots-Tag:noindex
X-PUBLISHED-TTL:PT1H
BEGIN:VTIMEZONE
TZID:UTC
BEGIN:STANDARD
TZOFFSETFROM:+0000
TZOFFSETTO:+0000
TZNAME:UTC
DTSTART:20250101T000000
END:STANDARD
END:VTIMEZONE
BEGIN:VEVENT
DTSTART;TZID=UTC:20260520T160000
DTEND;TZID=UTC:20260520T173000
DTSTAMP:20260423T131635
CREATED:20260324T231438Z
LAST-MODIFIED:20260324T231553Z
UID:10004438-1779292800-1779298200@lunchbreak.org
SUMMARY:Clothing Giveaway
DESCRIPTION:Clothing Giveaway in the Community Kitchen \nMay 20 from 4 – 5:30 PM \nWe are offering mens\, womens and childrens clothing! All are welcome!  \nLunch Break Community Kitchen\n121 Drs. James Parker Boulevard\, Red Bank \n*Please note Clara’s Closet will close at 1:00 PM
URL:https://lunchbreak.org/event/clothing-giveaway-2/
LOCATION:Lunch Break Community Dining Room\, 121 Drs. James Parker Boulevard\, Red Bank\, NJ\, 07701\, United States
CATEGORIES:Clothing Giveaway,Community Event
ATTACH;FMTTYPE=image/png:https://lunchbreak.org/wp-content/uploads/2026/03/CLOTHING-1.png
ORGANIZER;CN="Shani Love":MAILTO:slove@lunchbreak.org
END:VEVENT
BEGIN:VEVENT
DTSTART;TZID=UTC:20260521T180000
DTEND;TZID=UTC:20260521T200000
DTSTAMP:20260423T131635
CREATED:20260330T174407Z
LAST-MODIFIED:20260402T143217Z
UID:10004790-1779386400-1779393600@lunchbreak.org
SUMMARY:Canvas of Hope Art Auction
DESCRIPTION:We’re excited to invite you to be part of Canvas of Hope\, an inspiring evening where community art creates meaningful impact.\n\nHosted in partnership with Parlor Gallery\, this special event supports Lunch Break’s essential programs and services for individuals and families in need.\n\n Thurs.\, May 21\, 6 – 8 PM Parlor Gallery – 717 Cookman Avenue\, Asbury Park Submit a Piece – http://bit.ly/4dcTK4i\n**Once pieces are submitted\, a link to preview and bid on items will be shared.\n\nQUESTIONS? Please email Lauren at lbrajer@lunchbreak.org.
URL:https://lunchbreak.org/event/6465/
LOCATION:Parlor Gallery\, 717 Cookman Ave\, Asbury Park\, NJ\, 07712\, United States
CATEGORIES:Community Event,Fundraiser
ATTACH;FMTTYPE=image/png:https://lunchbreak.org/wp-content/uploads/2026/03/Facebook-Cover-3.png
ORGANIZER;CN="Lauren Brajer":MAILTO:lbrajer@lunchbreak.org
END:VEVENT
END:VCALENDAR