BEGIN:VCALENDAR
VERSION:2.0
PRODID:-//Lunch Break - ECPv6.15.20//NONSGML v1.0//EN
CALSCALE:GREGORIAN
METHOD:PUBLISH
X-ORIGINAL-URL:https://lunchbreak.org
X-WR-CALDESC:Events for Lunch Break
REFRESH-INTERVAL;VALUE=DURATION:PT1H
X-Robots-Tag:noindex
X-PUBLISHED-TTL:PT1H
BEGIN:VTIMEZONE
TZID:UTC
BEGIN:STANDARD
TZOFFSETFROM:+0000
TZOFFSETTO:+0000
TZNAME:UTC
DTSTART:20250101T000000
END:STANDARD
END:VTIMEZONE
BEGIN:VEVENT
DTSTART;TZID=UTC:20260406T171500
DTEND;TZID=UTC:20260406T181500
DTSTAMP:20260423T121203
CREATED:20260326T153315Z
LAST-MODIFIED:20260326T153315Z
UID:10004440-1775495700-1775499300@lunchbreak.org
SUMMARY:Yoga @ Open Heart Yoga
DESCRIPTION:Join us at Open Heart Yoga to flow through poses and create new space in areas you need it most. Heart opening postures will be included where you could invite anything enriching and empowering inside. Stretch and restore gently. \n📧 Reserve your spot by emailing Shani slove@lunchbreak.org or text the class name to 732-513-6960.
URL:https://lunchbreak.org/event/yoga-open-heart-yoga-2/
LOCATION:Open Heart Yoga\, The Anderson Building\, 200 Monmouth St.\, 3rd Floor\, Red Bank\, NJ\, 07701
CATEGORIES:Health & Wellness
ATTACH;FMTTYPE=image/png:https://lunchbreak.org/wp-content/uploads/2026/01/YOGA.png
ORGANIZER;CN="Shani Love":MAILTO:slove@lunchbreak.org
END:VEVENT
END:VCALENDAR